BEGIN:VCALENDAR
VERSION:2.0
PRODID:-//Grovespring Farm: Horseback Riding in Culpeper, Virginia - ECPv6.15.20//NONSGML v1.0//EN
CALSCALE:GREGORIAN
METHOD:PUBLISH
X-WR-CALNAME:Grovespring Farm: Horseback Riding in Culpeper, Virginia
X-ORIGINAL-URL:https://www.grovespringfarm.com
X-WR-CALDESC:Events for Grovespring Farm: Horseback Riding in Culpeper, Virginia
REFRESH-INTERVAL;VALUE=DURATION:PT1H
X-Robots-Tag:noindex
X-PUBLISHED-TTL:PT1H
BEGIN:VTIMEZONE
TZID:America/New_York
BEGIN:DAYLIGHT
TZOFFSETFROM:-0500
TZOFFSETTO:-0400
TZNAME:EDT
DTSTART:20250309T070000
END:DAYLIGHT
BEGIN:STANDARD
TZOFFSETFROM:-0400
TZOFFSETTO:-0500
TZNAME:EST
DTSTART:20251102T060000
END:STANDARD
BEGIN:DAYLIGHT
TZOFFSETFROM:-0500
TZOFFSETTO:-0400
TZNAME:EDT
DTSTART:20260308T070000
END:DAYLIGHT
BEGIN:STANDARD
TZOFFSETFROM:-0400
TZOFFSETTO:-0500
TZNAME:EST
DTSTART:20261101T060000
END:STANDARD
BEGIN:DAYLIGHT
TZOFFSETFROM:-0500
TZOFFSETTO:-0400
TZNAME:EDT
DTSTART:20270314T070000
END:DAYLIGHT
BEGIN:STANDARD
TZOFFSETFROM:-0400
TZOFFSETTO:-0500
TZNAME:EST
DTSTART:20271107T060000
END:STANDARD
END:VTIMEZONE
BEGIN:VEVENT
DTSTART;TZID=America/New_York:20260713T090000
DTEND;TZID=America/New_York:20260717T120000
DTSTAMP:20260424T070459
CREATED:20240122T174126Z
LAST-MODIFIED:20260417T150109Z
UID:926-1783933200-1784289600@www.grovespringfarm.com
SUMMARY:Half-Day Beginner Riding Camp July 13-17
DESCRIPTION:Learn how to approach\, groom\, tack\, and the basics of riding in this half-day camp for new and younger riders. \n\n    \n     \n           \n            Note: It looks like JavaScript is disabled in your browser. Some elements of this form may require JavaScript to work properly. If you have trouble submitting the form\, try enabling JavaScript momentarily and resubmit. JavaScript settings are usually found in Browser Settings or Browser Developer menu.\n            \n        \n    Online registration prices include PayPal fees. \nTo pay by check\, mail your payment toGrovespring Farm11323 Grovespring RdCulpeper\, VA 22701 \nWe can also invoice you for your camp payments\, and you will be able to pay via ACH from the invoice\, or mail in a check. \n$100 non-refundable deposit to hold your spot. \nPlease also submit our medical release. RM_StatsFull-Day Camps June 15 - 19 ($ 622.20)   June 22 - 26 ($ 622.20)  Half-Day Camps July 13 - 17 ($ 363.16)  Name *Sex *MaleFemaleAge *Email *Address\n        \n                   \n                                                    \n                                \n\n                                                                    Address Line 1                                        \n                                     *\n                                 \n                                    \n                                    \n                                 \n                           \n                            \n                                                \n                                    \n            \n                        \n            \n                                            \n                                \n                                                            City                                    \n                                 *\n                                                               \n                                \n                                                     \n                        \n                                        \n                                                                \n                \n                                                    \n                                \n                                    State or Region\n                                                                                                                                                                   \n                                                 Alabama\n                                                 \n                                                                                                                               \n                                                 Alaska\n                                                 \n                                                                                                                               \n                                                 Arizona\n                                                 \n                                                                                                                               \n                                                 Arkansas\n                                                 \n                                                                                                                               \n                                                 Armed Forces America\n                                                 \n                                                                                                                               \n                                                 Armed Forces Europe\n                                                 \n                                                                                                                               \n                                                 Armed Forces Pacific\n                                                 \n                                                                                                                               \n                                                 California\n                                                 \n                                                                                                                               \n                                                 Colorado\n                                                 \n                                                                                                                               \n                                                 Connecticut\n                                                 \n                                                                                                                               \n                                                 Delaware\n                                                 \n                                                                                                                               \n                                                 District Of Columbia\n                                                 \n                                                                                                                               \n                                                 Florida\n                                                 \n                                                                                                                               \n                                                 Georgia\n                                                 \n                                                                                                                               \n                                                 Hawaii\n                                                 \n                                                                                                                               \n                                                 Idaho\n                                                 \n                                                                                                                               \n                                                 Illinois\n                                                 \n                                                                                                                               \n                                                 Indiana\n                                                 \n                                                                                                                               \n                                                 Iowa\n                                                 \n                                                                                                                               \n                                                 Kansas\n                                                 \n                                                                                                                               \n                                                 Kentucky\n                                                 \n                                                                                                                               \n                                                 Louisiana\n                                                 \n                                                                                                                               \n                                                 Maine\n                                                 \n                                                                                                                               \n                                                 Maryland\n                                                 \n                                                                                                                               \n                                                 Massachusetts\n                                                 \n                                                                                                                               \n                                                 Michigan\n                                                 \n                                                                                                                               \n                                                 Minnesota\n                                                 \n                                                                                                                               \n                                                 Mississippi\n                                                 \n                                                                                                                               \n                                                 Missouri\n                                                 \n                                                                                                                               \n                                                 Montana\n                                                 \n                                                                                                                               \n                                                 Nebraska\n                                                 \n                                                                                                                               \n                                                 Nevada\n                                                 \n                                                                                                                               \n                                                 New Hampshire\n                                                 \n                                                                                                                               \n                                                 New Jersey\n                                                 \n                                                                                                                               \n                                                 New Mexico\n                                                 \n                                                                                                                               \n                                                 New York\n                                                 \n                                                                                                                               \n                                                 North Carolina\n                                                 \n                                                                                                                               \n                                                 North Dakota\n                                                 \n                                                                                                                               \n                                                 Ohio\n                                                 \n                                                                                                                               \n                                                 Oklahoma\n                                                 \n                                                                                                                               \n                                                 Oregon\n                                                 \n                                                                                                                               \n                                                 Pennsylvania\n                                                 \n                                                                                                                               \n                                                 Rhode Island\n                                                 \n                                                                                                                               \n                                                 South Carolina\n                                                 \n                                                                                                                               \n                                                 South Dakota\n                                                 \n                                                                                                                               \n                                                 Tennessee\n                                                 \n                                                                                                                               \n                                                 Texas\n                                                 \n                                                                                                                               \n                                                 Utah\n                                                 \n                                                                                                                               \n                                                 Vermont\n                                                 \n                                                                                                                               \n                                                 Virginia\n                                                 \n                                                                                                                               \n                                                 Washington\n                                                 \n                                                                                                                               \n                                                 West Virginia\n                                                 \n                                                                                                                               \n                                                 Wisconsin\n                                                 \n                                                                                                                               \n                                                 Wyoming\n                                                 \n                                       \n                                \n                                                                    State or Region                                                \n                                     *\n                                 \n                                    \n                                 \n                           \n                            \n                        \n                                                \n                \n                                 \n            \n            \n                     \n                    \n                                            \n                                 \n                                                                    Zip                                    \n                                               \n                                     *\n                                   \n                                    \n                                                          \n                        \n                     \n                    \n            \n            \n        \n\n        Mother’s NameMother’s Contact #sFather’s NameFather’s Contact #sPrevious Riding ExperienceHow did you hear about Grovespring Farm?Select a payment method *
URL:https://www.grovespringfarm.com/event/beginner-riding-camp-july-13-17-2026/
LOCATION:Grovespring Farm\, 11323 Grovespring Road\, Culpeper\, VA\, 22701\, United States
CATEGORIES:Junior Programs,Virginia Riding Camps
ATTACH;FMTTYPE=image/jpeg:https://www.grovespringfarm.com/wp-content/uploads/2025/04/IMG_8203-rotated.jpeg
END:VEVENT
END:VCALENDAR